BEGIN:VCALENDAR
VERSION:2.0
PRODID:icalendar-ruby
CALSCALE:GREGORIAN
METHOD:PUBLISH
BEGIN:VEVENT
DTSTAMP:20260420T234234Z
UID:43-2054389@stanselms.ca
DTSTART:20261101T183000Z
DTEND:20261101T193000Z
CLASS:PUBLIC
CREATED:20260420T160136
DESCRIPTION:Worship Service
LAST-MODIFIED:20260420T160136
LOCATION:
SUMMARY:Worship Service
URL;VALUE=URI:https://www.stanselms.ca/events/worship-service/2026-11-01
END:VEVENT
END:VCALENDAR
