BEGIN:VCALENDAR
VERSION:2.0
PRODID:icalendar-ruby
CALSCALE:GREGORIAN
METHOD:PUBLISH
BEGIN:VEVENT
DTSTAMP:20260420T203211Z
UID:43-2053389@stanselms.ca
DTSTART:20261018T173000Z
DTEND:20261018T183000Z
CLASS:PUBLIC
CREATED:20260420T132621
DESCRIPTION:Worship Service
LAST-MODIFIED:20260420T132621
LOCATION:
SUMMARY:Worship Service
URL;VALUE=URI:https://www.stanselms.ca/events/worship-service/2026-10-18
END:VEVENT
END:VCALENDAR
