BEGIN:VCALENDAR
VERSION:2.0
PRODID:icalendar-ruby
CALSCALE:GREGORIAN
METHOD:PUBLISH
BEGIN:VEVENT
DTSTAMP:20260420T190129Z
UID:43-2052390@stanselms.ca
DTSTART:20261011T173000Z
DTEND:20261011T183000Z
CLASS:PUBLIC
CREATED:20260420T105045
DESCRIPTION:Worship Service
LAST-MODIFIED:20260420T105045
LOCATION:
SUMMARY:Worship Service
URL;VALUE=URI:https://www.stanselms.ca/events/worship-service/2026-10-11
END:VEVENT
END:VCALENDAR
