BEGIN:VCALENDAR
VERSION:2.0
PRODID:icalendar-ruby
CALSCALE:GREGORIAN
METHOD:PUBLISH
BEGIN:VEVENT
DTSTAMP:20260420T171850Z
UID:43-2051391@stanselms.ca
DTSTART:20261004T173000Z
DTEND:20261004T183000Z
CLASS:PUBLIC
CREATED:20260420T081632
DESCRIPTION:Worship Service
LAST-MODIFIED:20260420T081632
LOCATION:
SUMMARY:Worship Service
URL;VALUE=URI:https://www.stanselms.ca/events/worship-service/2026-10-04
END:VEVENT
END:VCALENDAR
