BEGIN:VCALENDAR
VERSION:2.0
PRODID:icalendar-ruby
CALSCALE:GREGORIAN
METHOD:PUBLISH
BEGIN:VEVENT
DTSTAMP:20260420T142745Z
UID:43-2050391@stanselms.ca
DTSTART:20260920T173000Z
DTEND:20260920T183000Z
CLASS:PUBLIC
CREATED:20260420T054226
DESCRIPTION:Worship Service
LAST-MODIFIED:20260420T054226
LOCATION:
SUMMARY:Worship Service
URL;VALUE=URI:https://www.stanselms.ca/events/worship-service/2026-09-20
END:VEVENT
END:VCALENDAR
