BEGIN:VCALENDAR
VERSION:2.0
PRODID:icalendar-ruby
CALSCALE:GREGORIAN
METHOD:PUBLISH
BEGIN:VEVENT
DTSTAMP:20260420T031749Z
UID:229-2047663@stanselms.ca
DTSTART:20260922T163000Z
DTEND:20260922T173000Z
CLASS:PUBLIC
CREATED:20260419T175916
DESCRIPTION:Join us to discuss the following Sunday's Gospel reading. An op
 purtunity to think and pray together from the comfort of your own home. \
 nzoom link available from the church office please email office@stanselms.
 ca
LAST-MODIFIED:20260419T175916
LOCATION:
SUMMARY:Gospel Readings Bible Study
URL;VALUE=URI:https://www.stanselms.ca/events/gospel-readings-bible-study/2
 026-09-22
ATTACH;FILENAME=20260325_115809.jpg;FMTTYPE=image/jpeg:https://dq5pwpg1q8ru
 0.cloudfront.net/2026/03/25/19/19/14/f82bfff9-caff-4e51-a359-2c256a613a1a/
 20260325_115809.jpg
END:VEVENT
END:VCALENDAR
